BEGIN:VCALENDAR
VERSION:2.0
PRODID:-//RIGHTHERE//CALENDARIZE IT V3.2//EN
BEGIN:VTIMEZONE
TZID:America/Toronto
BEGIN:STANDARD
DTSTART:20251102T060000
TZOFFSETFROM:-0400
TZOFFSETTO:-0500
TZNAME:EST
END:STANDARD
BEGIN:DAYLIGHT
DTSTART:20260308T070000
TZOFFSETFROM:-0500
TZOFFSETTO:-0400
TZNAME:EDT
END:DAYLIGHT
BEGIN:STANDARD
DTSTART:20261101T060000
TZOFFSETFROM:-0400
TZOFFSETTO:-0500
TZNAME:EST
END:STANDARD
END:VTIMEZONE
BEGIN:VEVENT
UID:48837-events@bonnieglenpavilion.com
DTSTART;TZID=America/Toronto:20251115T160000
DTEND;TZID=America/Toronto:20251115T230000
DTSTAMP;TZID=America/Toronto:20250828T131106
SUMMARY:Herb’s Travel Plaza Xmas party
URL:https://bonnieglenpavilion.com/events/herbs-travel-plaza-xmas-party/
END:VEVENT
END:VCALENDAR